Workbook

Sheet Sheet1
A1: College name | B1: Librarians FTE staff | C1: Student FTE | D1: District | E1: Economic Prosperity Zone
A2: Alamance Community College | B2: 5 | C2: 4657 | D2: 3 | E2: Piedmont-Triad
A3: Asheville-Buncombe Technical Community College | B3: 4 | C3: 6595 | D3: 6 | E3: Western
A4: Beaufort County Community College | B4: 3 | C4: 1768 | D4: 2 | E4: Northeast
A5: Bladen Community College | B5: 1 | C5: 1485 | D5: 4 | E5: Sandhills
A6: Blue Ridge Community College | B6: 3 | C6: 2596 | D6: 6 | E6: Western
A7: Brunswick Community College | B7: 1.75 | C7: 1992 | D7: 4 | E7: Southeast
A8: Caldwell Community College and Technical Institute | B8: 3 | C8: 4060 | D8: 6 | E8: Northwest
A9: Cape Fear Community College | B9: 6.1 | C9: 8669 | D9: 4 | E9: Southeast
A10: Carteret Community College | B10: 2 | C10: 1870 | D10: 2 | E10: Southeast
A11: Catawba Valley Community College | B11: 1 | C11: 4907 | D11: 6 | E11: Northwest
A12: Central Carolina Community College | B12: 2 | C12: 5993 | D12: 4 | E12: North Central
A13: Central Piedmont Community College | B13: 23 | C13: 17001 | D13: 5 | E13: Southwest
... A59: Wilson Community College | B59: 1.5 | C59: 1861 | D59: 1 | E59: North Central

Sheet Sheet2
A1: Current Districts
A2: District | B2: Total FTE MLS Staff | C2: Total FTE students
A3: 1 | B3: =SUMIF(Sheet1!D2:D59,1,Sheet1!B2:B59) -> 34.3 | C3: =SUMIF(Sheet1!D2:D59,1,Sheet1!C2:C59) -> 42753
A4: 2 | B4: =SUMIF(Sheet1!D2:D59,2,Sheet1!B3:B60) -> 18.05 | C4: =SUMIF(Sheet1!D2:D59,2,Sheet1!C3:C60) -> 29530
A5: 3 | B5: =SUMIF(Sheet1!D2:D59,3,Sheet1!B4:B61) -> 28.5 | C5: =SUMIF(Sheet1!D2:D59,3,Sheet1!C4:C61) -> 44917
A6: 4 | B6: =SUMIF(Sheet1!D2:D59,3,Sheet1!B5:B62) -> 34.5 | C6: =SUMIF(Sheet1!D2:D59,4,Sheet1!C5:C62) -> 38124
A7: 5 | B7: =SUMIF(Sheet1!D2:D59,5,Sheet1!B6:B63) -> 28.58 | C7: =SUMIF(Sheet1!D2:D59,5,Sheet1!C6:C63) -> 45811
A8: 6 | B8: =SUMIF(Sheet1!D2:D59,6,Sheet1!B7:B64) -> 50.05 | C8: =SUMIF(Sheet1!D2:D59,6,Sheet1!C7:C64) -> 57531
A10: Economic Prosperity Zones
A11: North Central | B11: =SUMIF(Sheet1!E2:E59,"North Central",Sheet1!B2:B59) -> 39.5 | C11: =SUMIF(Sheet1!E2:E59,"North Central",Sheet1!C2:C59) -> 50082
A12: Northeast | B12: =SUMIF(Sheet1!E2:E59,"Northeast",Sheet1!B2:B59) -> 11.8 | C12: =SUMIF(Sheet1!E2:E59,"Northeast",Sheet1!C2:C59) -> 15723
A13: Southeast | B13: =SUMIF(Sheet1!E2:E59,"Southeast",Sheet1!B2:B59) -> 20.85 | C13: =SUMIF(Sheet1!E2:E59,"Southeast",Sheet1!C2:C59) -> 30989
A14: Sandhills | B14: =SUMIF(Sheet1!E2:E59,"Sandhills",Sheet1!B2:B59) -> 12 | C14: =SUMIF(Sheet1!E2:E59,"Sandhills",Sheet1!C2:C59) -> 32586
A15: Southwest | B15: =SUMIF(Sheet1!E2:E59,"Southwest",Sheet1!B2:B59) -> 43.4 | C15: =SUMIF(Sheet1!E2:E59,"Southwest",Sheet1!C2:C59) -> 38797
A16: Western | B16: =SUMIF(Sheet1!E2:E59,"Western",Sheet1!B2:B59) -> 13.5 | C16: =SUMIF(Sheet1!E2:E59,"Western",Sheet1!C2:C59) -> 16942
A17: Northwest | B17: =SUMIF(Sheet1!E2:E59,"Northwest",Sheet1!B2:B59) -> 11.25 | C17: =SUMIF(Sheet1!E2:E59,"Northwest",Sheet1!C2:C59) -> 19920
A18: Piedmont-Triad | B18: =SUMIF(Sheet1!E2:E59,"Piedmont-Triad",Sheet1!B2:B59) -> 24.78 | C18: =SUMIF(Sheet1!E2:E59,"Piedmont-Triad",Sheet1!C2:C59) -> 36035
